BEGIN:VCALENDAR
VERSION:2.0
PRODID:-//Moss Marina - ECPv6.15.18//NONSGML v1.0//EN
CALSCALE:GREGORIAN
METHOD:PUBLISH
X-ORIGINAL-URL:https://www.mossmarina.com
X-WR-CALDESC:Events for Moss Marina
REFRESH-INTERVAL;VALUE=DURATION:PT1H
X-Robots-Tag:noindex
X-PUBLISHED-TTL:PT1H
BEGIN:VTIMEZONE
TZID:America/New_York
BEGIN:DAYLIGHT
TZOFFSETFROM:-0500
TZOFFSETTO:-0400
TZNAME:EDT
DTSTART:20290311T070000
END:DAYLIGHT
BEGIN:STANDARD
TZOFFSETFROM:-0400
TZOFFSETTO:-0500
TZNAME:EST
DTSTART:20291104T060000
END:STANDARD
BEGIN:DAYLIGHT
TZOFFSETFROM:-0500
TZOFFSETTO:-0400
TZNAME:EDT
DTSTART:20300310T070000
END:DAYLIGHT
BEGIN:STANDARD
TZOFFSETFROM:-0400
TZOFFSETTO:-0500
TZNAME:EST
DTSTART:20301103T060000
END:STANDARD
BEGIN:DAYLIGHT
TZOFFSETFROM:-0500
TZOFFSETTO:-0400
TZNAME:EDT
DTSTART:20310309T070000
END:DAYLIGHT
BEGIN:STANDARD
TZOFFSETFROM:-0400
TZOFFSETTO:-0500
TZNAME:EST
DTSTART:20311102T060000
END:STANDARD
END:VTIMEZONE
BEGIN:VEVENT
DTSTART;TZID=America/New_York:20300707T160000
DTEND;TZID=America/New_York:20300707T190000
DTSTAMP:20260424T182421
CREATED:20250929T180200Z
LAST-MODIFIED:20250929T180200Z
UID:10001740-1909670400-1909681200@www.mossmarina.com
SUMMARY:Bayside Park Concert Series
DESCRIPTION:Snag a slip and walk to the fun!
URL:https://www.mossmarina.com/activity/bayside-park-concert-series-7/2030-07-07/
CATEGORIES:Upcoming Events
ATTACH;FMTTYPE=image/jpeg:https://www.mossmarina.com/wp-content/uploads/2025/09/544857040_1313381413926169_1802230428084889708_n.jpg
END:VEVENT
BEGIN:VEVENT
DTSTART;TZID=America/New_York:20300714T160000
DTEND;TZID=America/New_York:20300714T190000
DTSTAMP:20260424T182421
CREATED:20250929T180200Z
LAST-MODIFIED:20250929T180200Z
UID:10001741-1910275200-1910286000@www.mossmarina.com
SUMMARY:Bayside Park Concert Series
DESCRIPTION:Snag a slip and walk to the fun!
URL:https://www.mossmarina.com/activity/bayside-park-concert-series-7/2030-07-14/
CATEGORIES:Upcoming Events
ATTACH;FMTTYPE=image/jpeg:https://www.mossmarina.com/wp-content/uploads/2025/09/544857040_1313381413926169_1802230428084889708_n.jpg
END:VEVENT
BEGIN:VEVENT
DTSTART;TZID=America/New_York:20300721T160000
DTEND;TZID=America/New_York:20300721T190000
DTSTAMP:20260424T182421
CREATED:20250929T180200Z
LAST-MODIFIED:20250929T180200Z
UID:10001742-1910880000-1910890800@www.mossmarina.com
SUMMARY:Bayside Park Concert Series
DESCRIPTION:Snag a slip and walk to the fun!
URL:https://www.mossmarina.com/activity/bayside-park-concert-series-7/2030-07-21/
CATEGORIES:Upcoming Events
ATTACH;FMTTYPE=image/jpeg:https://www.mossmarina.com/wp-content/uploads/2025/09/544857040_1313381413926169_1802230428084889708_n.jpg
END:VEVENT
BEGIN:VEVENT
DTSTART;TZID=America/New_York:20300728T160000
DTEND;TZID=America/New_York:20300728T190000
DTSTAMP:20260424T182421
CREATED:20250929T180200Z
LAST-MODIFIED:20250929T180200Z
UID:10001743-1911484800-1911495600@www.mossmarina.com
SUMMARY:Bayside Park Concert Series
DESCRIPTION:Snag a slip and walk to the fun!
URL:https://www.mossmarina.com/activity/bayside-park-concert-series-7/2030-07-28/
CATEGORIES:Upcoming Events
ATTACH;FMTTYPE=image/jpeg:https://www.mossmarina.com/wp-content/uploads/2025/09/544857040_1313381413926169_1802230428084889708_n.jpg
END:VEVENT
END:VCALENDAR