BEGIN:VCALENDAR
VERSION:2.0
PRODID:-//Moss Marina - ECPv6.15.18//NONSGML v1.0//EN
CALSCALE:GREGORIAN
METHOD:PUBLISH
X-WR-CALNAME:Moss Marina
X-ORIGINAL-URL:https://www.mossmarina.com
X-WR-CALDESC:Events for Moss Marina
REFRESH-INTERVAL;VALUE=DURATION:PT1H
X-Robots-Tag:noindex
X-PUBLISHED-TTL:PT1H
BEGIN:VTIMEZONE
TZID:America/New_York
BEGIN:DAYLIGHT
TZOFFSETFROM:-0500
TZOFFSETTO:-0400
TZNAME:EDT
DTSTART:20280312T070000
END:DAYLIGHT
BEGIN:STANDARD
TZOFFSETFROM:-0400
TZOFFSETTO:-0500
TZNAME:EST
DTSTART:20281105T060000
END:STANDARD
BEGIN:DAYLIGHT
TZOFFSETFROM:-0500
TZOFFSETTO:-0400
TZNAME:EDT
DTSTART:20290311T070000
END:DAYLIGHT
BEGIN:STANDARD
TZOFFSETFROM:-0400
TZOFFSETTO:-0500
TZNAME:EST
DTSTART:20291104T060000
END:STANDARD
BEGIN:DAYLIGHT
TZOFFSETFROM:-0500
TZOFFSETTO:-0400
TZNAME:EDT
DTSTART:20300310T070000
END:DAYLIGHT
BEGIN:STANDARD
TZOFFSETFROM:-0400
TZOFFSETTO:-0500
TZNAME:EST
DTSTART:20301103T060000
END:STANDARD
END:VTIMEZONE
BEGIN:VEVENT
DTSTART;TZID=America/New_York:20291202T160000
DTEND;TZID=America/New_York:20291202T190000
DTSTAMP:20260424T054127
CREATED:20250929T180200Z
LAST-MODIFIED:20250929T180200Z
UID:10001709-1890921600-1890932400@www.mossmarina.com
SUMMARY:Bayside Park Concert Series
DESCRIPTION:Snag a slip and walk to the fun!
URL:https://www.mossmarina.com/activity/bayside-park-concert-series-7/2029-12-02/
CATEGORIES:Upcoming Events
ATTACH;FMTTYPE=image/jpeg:https://www.mossmarina.com/wp-content/uploads/2025/09/544857040_1313381413926169_1802230428084889708_n.jpg
END:VEVENT
BEGIN:VEVENT
DTSTART;TZID=America/New_York:20291209T160000
DTEND;TZID=America/New_York:20291209T190000
DTSTAMP:20260424T054127
CREATED:20250929T180200Z
LAST-MODIFIED:20250929T180200Z
UID:10001710-1891526400-1891537200@www.mossmarina.com
SUMMARY:Bayside Park Concert Series
DESCRIPTION:Snag a slip and walk to the fun!
URL:https://www.mossmarina.com/activity/bayside-park-concert-series-7/2029-12-09/
CATEGORIES:Upcoming Events
ATTACH;FMTTYPE=image/jpeg:https://www.mossmarina.com/wp-content/uploads/2025/09/544857040_1313381413926169_1802230428084889708_n.jpg
END:VEVENT
BEGIN:VEVENT
DTSTART;TZID=America/New_York:20291216T160000
DTEND;TZID=America/New_York:20291216T190000
DTSTAMP:20260424T054127
CREATED:20250929T180200Z
LAST-MODIFIED:20250929T180200Z
UID:10001711-1892131200-1892142000@www.mossmarina.com
SUMMARY:Bayside Park Concert Series
DESCRIPTION:Snag a slip and walk to the fun!
URL:https://www.mossmarina.com/activity/bayside-park-concert-series-7/2029-12-16/
CATEGORIES:Upcoming Events
ATTACH;FMTTYPE=image/jpeg:https://www.mossmarina.com/wp-content/uploads/2025/09/544857040_1313381413926169_1802230428084889708_n.jpg
END:VEVENT
BEGIN:VEVENT
DTSTART;TZID=America/New_York:20291223T160000
DTEND;TZID=America/New_York:20291223T190000
DTSTAMP:20260424T054127
CREATED:20250929T180200Z
LAST-MODIFIED:20250929T180200Z
UID:10001712-1892736000-1892746800@www.mossmarina.com
SUMMARY:Bayside Park Concert Series
DESCRIPTION:Snag a slip and walk to the fun!
URL:https://www.mossmarina.com/activity/bayside-park-concert-series-7/2029-12-23/
CATEGORIES:Upcoming Events
ATTACH;FMTTYPE=image/jpeg:https://www.mossmarina.com/wp-content/uploads/2025/09/544857040_1313381413926169_1802230428084889708_n.jpg
END:VEVENT
BEGIN:VEVENT
DTSTART;TZID=America/New_York:20291230T160000
DTEND;TZID=America/New_York:20291230T190000
DTSTAMP:20260424T054127
CREATED:20250929T180200Z
LAST-MODIFIED:20250929T180200Z
UID:10001713-1893340800-1893351600@www.mossmarina.com
SUMMARY:Bayside Park Concert Series
DESCRIPTION:Snag a slip and walk to the fun!
URL:https://www.mossmarina.com/activity/bayside-park-concert-series-7/2029-12-30/
CATEGORIES:Upcoming Events
ATTACH;FMTTYPE=image/jpeg:https://www.mossmarina.com/wp-content/uploads/2025/09/544857040_1313381413926169_1802230428084889708_n.jpg
END:VEVENT
END:VCALENDAR