BEGIN:VCALENDAR
VERSION:2.0
PRODID:-//Moss Marina - ECPv6.15.18//NONSGML v1.0//EN
CALSCALE:GREGORIAN
METHOD:PUBLISH
X-WR-CALNAME:Moss Marina
X-ORIGINAL-URL:https://www.mossmarina.com
X-WR-CALDESC:Events for Moss Marina
REFRESH-INTERVAL;VALUE=DURATION:PT1H
X-Robots-Tag:noindex
X-PUBLISHED-TTL:PT1H
BEGIN:VTIMEZONE
TZID:America/New_York
BEGIN:DAYLIGHT
TZOFFSETFROM:-0500
TZOFFSETTO:-0400
TZNAME:EDT
DTSTART:20280312T070000
END:DAYLIGHT
BEGIN:STANDARD
TZOFFSETFROM:-0400
TZOFFSETTO:-0500
TZNAME:EST
DTSTART:20281105T060000
END:STANDARD
BEGIN:DAYLIGHT
TZOFFSETFROM:-0500
TZOFFSETTO:-0400
TZNAME:EDT
DTSTART:20290311T070000
END:DAYLIGHT
BEGIN:STANDARD
TZOFFSETFROM:-0400
TZOFFSETTO:-0500
TZNAME:EST
DTSTART:20291104T060000
END:STANDARD
BEGIN:DAYLIGHT
TZOFFSETFROM:-0500
TZOFFSETTO:-0400
TZNAME:EDT
DTSTART:20300310T070000
END:DAYLIGHT
BEGIN:STANDARD
TZOFFSETFROM:-0400
TZOFFSETTO:-0500
TZNAME:EST
DTSTART:20301103T060000
END:STANDARD
END:VTIMEZONE
BEGIN:VEVENT
DTSTART;TZID=America/New_York:20290805T160000
DTEND;TZID=America/New_York:20290805T190000
DTSTAMP:20260423T225017
CREATED:20250929T180200Z
LAST-MODIFIED:20250929T180200Z
UID:10001692-1880640000-1880650800@www.mossmarina.com
SUMMARY:Bayside Park Concert Series
DESCRIPTION:Snag a slip and walk to the fun!
URL:https://www.mossmarina.com/activity/bayside-park-concert-series-7/2029-08-05/
CATEGORIES:Upcoming Events
ATTACH;FMTTYPE=image/jpeg:https://www.mossmarina.com/wp-content/uploads/2025/09/544857040_1313381413926169_1802230428084889708_n.jpg
END:VEVENT
BEGIN:VEVENT
DTSTART;TZID=America/New_York:20290812T160000
DTEND;TZID=America/New_York:20290812T190000
DTSTAMP:20260423T225017
CREATED:20250929T180200Z
LAST-MODIFIED:20250929T180200Z
UID:10001693-1881244800-1881255600@www.mossmarina.com
SUMMARY:Bayside Park Concert Series
DESCRIPTION:Snag a slip and walk to the fun!
URL:https://www.mossmarina.com/activity/bayside-park-concert-series-7/2029-08-12/
CATEGORIES:Upcoming Events
ATTACH;FMTTYPE=image/jpeg:https://www.mossmarina.com/wp-content/uploads/2025/09/544857040_1313381413926169_1802230428084889708_n.jpg
END:VEVENT
BEGIN:VEVENT
DTSTART;TZID=America/New_York:20290819T160000
DTEND;TZID=America/New_York:20290819T190000
DTSTAMP:20260423T225017
CREATED:20250929T180200Z
LAST-MODIFIED:20250929T180200Z
UID:10001694-1881849600-1881860400@www.mossmarina.com
SUMMARY:Bayside Park Concert Series
DESCRIPTION:Snag a slip and walk to the fun!
URL:https://www.mossmarina.com/activity/bayside-park-concert-series-7/2029-08-19/
CATEGORIES:Upcoming Events
ATTACH;FMTTYPE=image/jpeg:https://www.mossmarina.com/wp-content/uploads/2025/09/544857040_1313381413926169_1802230428084889708_n.jpg
END:VEVENT
BEGIN:VEVENT
DTSTART;TZID=America/New_York:20290826T160000
DTEND;TZID=America/New_York:20290826T190000
DTSTAMP:20260423T225017
CREATED:20250929T180200Z
LAST-MODIFIED:20250929T180200Z
UID:10001695-1882454400-1882465200@www.mossmarina.com
SUMMARY:Bayside Park Concert Series
DESCRIPTION:Snag a slip and walk to the fun!
URL:https://www.mossmarina.com/activity/bayside-park-concert-series-7/2029-08-26/
CATEGORIES:Upcoming Events
ATTACH;FMTTYPE=image/jpeg:https://www.mossmarina.com/wp-content/uploads/2025/09/544857040_1313381413926169_1802230428084889708_n.jpg
END:VEVENT
END:VCALENDAR