BEGIN:VCALENDAR
VERSION:2.0
PRODID:-//Moss Marina - ECPv6.15.18//NONSGML v1.0//EN
CALSCALE:GREGORIAN
METHOD:PUBLISH
X-WR-CALNAME:Moss Marina
X-ORIGINAL-URL:https://www.mossmarina.com
X-WR-CALDESC:Events for Moss Marina
REFRESH-INTERVAL;VALUE=DURATION:PT1H
X-Robots-Tag:noindex
X-PUBLISHED-TTL:PT1H
BEGIN:VTIMEZONE
TZID:America/New_York
BEGIN:DAYLIGHT
TZOFFSETFROM:-0500
TZOFFSETTO:-0400
TZNAME:EDT
DTSTART:20280312T070000
END:DAYLIGHT
BEGIN:STANDARD
TZOFFSETFROM:-0400
TZOFFSETTO:-0500
TZNAME:EST
DTSTART:20281105T060000
END:STANDARD
BEGIN:DAYLIGHT
TZOFFSETFROM:-0500
TZOFFSETTO:-0400
TZNAME:EDT
DTSTART:20290311T070000
END:DAYLIGHT
BEGIN:STANDARD
TZOFFSETFROM:-0400
TZOFFSETTO:-0500
TZNAME:EST
DTSTART:20291104T060000
END:STANDARD
BEGIN:DAYLIGHT
TZOFFSETFROM:-0500
TZOFFSETTO:-0400
TZNAME:EDT
DTSTART:20300310T070000
END:DAYLIGHT
BEGIN:STANDARD
TZOFFSETFROM:-0400
TZOFFSETTO:-0500
TZNAME:EST
DTSTART:20301103T060000
END:STANDARD
END:VTIMEZONE
BEGIN:VEVENT
DTSTART;TZID=America/New_York:20290401T160000
DTEND;TZID=America/New_York:20290401T190000
DTSTAMP:20260423T152648
CREATED:20250929T180200Z
LAST-MODIFIED:20250929T180200Z
UID:10001674-1869753600-1869764400@www.mossmarina.com
SUMMARY:Bayside Park Concert Series
DESCRIPTION:Snag a slip and walk to the fun!
URL:https://www.mossmarina.com/activity/bayside-park-concert-series-7/2029-04-01/
CATEGORIES:Upcoming Events
ATTACH;FMTTYPE=image/jpeg:https://www.mossmarina.com/wp-content/uploads/2025/09/544857040_1313381413926169_1802230428084889708_n.jpg
END:VEVENT
BEGIN:VEVENT
DTSTART;TZID=America/New_York:20290408T160000
DTEND;TZID=America/New_York:20290408T190000
DTSTAMP:20260423T152648
CREATED:20250929T180200Z
LAST-MODIFIED:20250929T180200Z
UID:10001675-1870358400-1870369200@www.mossmarina.com
SUMMARY:Bayside Park Concert Series
DESCRIPTION:Snag a slip and walk to the fun!
URL:https://www.mossmarina.com/activity/bayside-park-concert-series-7/2029-04-08/
CATEGORIES:Upcoming Events
ATTACH;FMTTYPE=image/jpeg:https://www.mossmarina.com/wp-content/uploads/2025/09/544857040_1313381413926169_1802230428084889708_n.jpg
END:VEVENT
BEGIN:VEVENT
DTSTART;TZID=America/New_York:20290415T160000
DTEND;TZID=America/New_York:20290415T190000
DTSTAMP:20260423T152648
CREATED:20250929T180200Z
LAST-MODIFIED:20250929T180200Z
UID:10001676-1870963200-1870974000@www.mossmarina.com
SUMMARY:Bayside Park Concert Series
DESCRIPTION:Snag a slip and walk to the fun!
URL:https://www.mossmarina.com/activity/bayside-park-concert-series-7/2029-04-15/
CATEGORIES:Upcoming Events
ATTACH;FMTTYPE=image/jpeg:https://www.mossmarina.com/wp-content/uploads/2025/09/544857040_1313381413926169_1802230428084889708_n.jpg
END:VEVENT
BEGIN:VEVENT
DTSTART;TZID=America/New_York:20290422T160000
DTEND;TZID=America/New_York:20290422T190000
DTSTAMP:20260423T152648
CREATED:20250929T180200Z
LAST-MODIFIED:20250929T180200Z
UID:10001677-1871568000-1871578800@www.mossmarina.com
SUMMARY:Bayside Park Concert Series
DESCRIPTION:Snag a slip and walk to the fun!
URL:https://www.mossmarina.com/activity/bayside-park-concert-series-7/2029-04-22/
CATEGORIES:Upcoming Events
ATTACH;FMTTYPE=image/jpeg:https://www.mossmarina.com/wp-content/uploads/2025/09/544857040_1313381413926169_1802230428084889708_n.jpg
END:VEVENT
BEGIN:VEVENT
DTSTART;TZID=America/New_York:20290429T160000
DTEND;TZID=America/New_York:20290429T190000
DTSTAMP:20260423T152648
CREATED:20250929T180200Z
LAST-MODIFIED:20250929T180200Z
UID:10001678-1872172800-1872183600@www.mossmarina.com
SUMMARY:Bayside Park Concert Series
DESCRIPTION:Snag a slip and walk to the fun!
URL:https://www.mossmarina.com/activity/bayside-park-concert-series-7/2029-04-29/
CATEGORIES:Upcoming Events
ATTACH;FMTTYPE=image/jpeg:https://www.mossmarina.com/wp-content/uploads/2025/09/544857040_1313381413926169_1802230428084889708_n.jpg
END:VEVENT
END:VCALENDAR