BEGIN:VCALENDAR
VERSION:2.0
PRODID:-//Moss Marina - ECPv6.15.18//NONSGML v1.0//EN
CALSCALE:GREGORIAN
METHOD:PUBLISH
X-WR-CALNAME:Moss Marina
X-ORIGINAL-URL:https://www.mossmarina.com
X-WR-CALDESC:Events for Moss Marina
REFRESH-INTERVAL;VALUE=DURATION:PT1H
X-Robots-Tag:noindex
X-PUBLISHED-TTL:PT1H
BEGIN:VTIMEZONE
TZID:America/New_York
BEGIN:DAYLIGHT
TZOFFSETFROM:-0500
TZOFFSETTO:-0400
TZNAME:EDT
DTSTART:20270314T070000
END:DAYLIGHT
BEGIN:STANDARD
TZOFFSETFROM:-0400
TZOFFSETTO:-0500
TZNAME:EST
DTSTART:20271107T060000
END:STANDARD
BEGIN:DAYLIGHT
TZOFFSETFROM:-0500
TZOFFSETTO:-0400
TZNAME:EDT
DTSTART:20280312T070000
END:DAYLIGHT
BEGIN:STANDARD
TZOFFSETFROM:-0400
TZOFFSETTO:-0500
TZNAME:EST
DTSTART:20281105T060000
END:STANDARD
BEGIN:DAYLIGHT
TZOFFSETFROM:-0500
TZOFFSETTO:-0400
TZNAME:EDT
DTSTART:20290311T070000
END:DAYLIGHT
BEGIN:STANDARD
TZOFFSETFROM:-0400
TZOFFSETTO:-0500
TZNAME:EST
DTSTART:20291104T060000
END:STANDARD
END:VTIMEZONE
BEGIN:VEVENT
DTSTART;TZID=America/New_York:20281203T160000
DTEND;TZID=America/New_York:20281203T190000
DTSTAMP:20260423T083220
CREATED:20250929T180200Z
LAST-MODIFIED:20250929T180200Z
UID:10001657-1859472000-1859482800@www.mossmarina.com
SUMMARY:Bayside Park Concert Series
DESCRIPTION:Snag a slip and walk to the fun!
URL:https://www.mossmarina.com/activity/bayside-park-concert-series-7/2028-12-03/
CATEGORIES:Upcoming Events
ATTACH;FMTTYPE=image/jpeg:https://www.mossmarina.com/wp-content/uploads/2025/09/544857040_1313381413926169_1802230428084889708_n.jpg
END:VEVENT
BEGIN:VEVENT
DTSTART;TZID=America/New_York:20281210T160000
DTEND;TZID=America/New_York:20281210T190000
DTSTAMP:20260423T083220
CREATED:20250929T180200Z
LAST-MODIFIED:20250929T180200Z
UID:10001658-1860076800-1860087600@www.mossmarina.com
SUMMARY:Bayside Park Concert Series
DESCRIPTION:Snag a slip and walk to the fun!
URL:https://www.mossmarina.com/activity/bayside-park-concert-series-7/2028-12-10/
CATEGORIES:Upcoming Events
ATTACH;FMTTYPE=image/jpeg:https://www.mossmarina.com/wp-content/uploads/2025/09/544857040_1313381413926169_1802230428084889708_n.jpg
END:VEVENT
BEGIN:VEVENT
DTSTART;TZID=America/New_York:20281217T160000
DTEND;TZID=America/New_York:20281217T190000
DTSTAMP:20260423T083220
CREATED:20250929T180200Z
LAST-MODIFIED:20250929T180200Z
UID:10001659-1860681600-1860692400@www.mossmarina.com
SUMMARY:Bayside Park Concert Series
DESCRIPTION:Snag a slip and walk to the fun!
URL:https://www.mossmarina.com/activity/bayside-park-concert-series-7/2028-12-17/
CATEGORIES:Upcoming Events
ATTACH;FMTTYPE=image/jpeg:https://www.mossmarina.com/wp-content/uploads/2025/09/544857040_1313381413926169_1802230428084889708_n.jpg
END:VEVENT
BEGIN:VEVENT
DTSTART;TZID=America/New_York:20281224T160000
DTEND;TZID=America/New_York:20281224T190000
DTSTAMP:20260423T083220
CREATED:20250929T180200Z
LAST-MODIFIED:20250929T180200Z
UID:10001660-1861286400-1861297200@www.mossmarina.com
SUMMARY:Bayside Park Concert Series
DESCRIPTION:Snag a slip and walk to the fun!
URL:https://www.mossmarina.com/activity/bayside-park-concert-series-7/2028-12-24/
CATEGORIES:Upcoming Events
ATTACH;FMTTYPE=image/jpeg:https://www.mossmarina.com/wp-content/uploads/2025/09/544857040_1313381413926169_1802230428084889708_n.jpg
END:VEVENT
BEGIN:VEVENT
DTSTART;TZID=America/New_York:20281231T160000
DTEND;TZID=America/New_York:20281231T190000
DTSTAMP:20260423T083220
CREATED:20250929T180200Z
LAST-MODIFIED:20250929T180200Z
UID:10001661-1861891200-1861902000@www.mossmarina.com
SUMMARY:Bayside Park Concert Series
DESCRIPTION:Snag a slip and walk to the fun!
URL:https://www.mossmarina.com/activity/bayside-park-concert-series-7/2028-12-31/
CATEGORIES:Upcoming Events
ATTACH;FMTTYPE=image/jpeg:https://www.mossmarina.com/wp-content/uploads/2025/09/544857040_1313381413926169_1802230428084889708_n.jpg
END:VEVENT
END:VCALENDAR